BEGIN:VCALENDAR
VERSION:2.0
PRODID:-//City of Floresville - ECPv5.16.4//NONSGML v1.0//EN
CALSCALE:GREGORIAN
METHOD:PUBLISH
X-ORIGINAL-URL:https://www.floresvilletx.gov
X-WR-CALDESC:Events for City of Floresville
BEGIN:VTIMEZONE
TZID:America/Chicago
BEGIN:DAYLIGHT
TZOFFSETFROM:-0600
TZOFFSETTO:-0500
TZNAME:CDT
DTSTART:20240310T080000
END:DAYLIGHT
BEGIN:STANDARD
TZOFFSETFROM:-0500
TZOFFSETTO:-0600
TZNAME:CST
DTSTART:20241103T070000
END:STANDARD
END:VTIMEZONE
BEGIN:VEVENT
DTSTART;TZID=America/Chicago:20240515T090000
DTEND;TZID=America/Chicago:20240515T140000
DTSTAMP:20260420T180552
CREATED:20240426T115746Z
LAST-MODIFIED:20240502T092355Z
UID:10158-1715763600-1715781600@www.floresvilletx.gov
SUMMARY:Floresville Blood Drive
DESCRIPTION:#QuenchYourThirst when you save lives. 💧 💕 Donate blood at the City of Floresville blood drive. Click here to schedule your appointment\, scan the QR code above\, or contact Ms. Veliz at (830) 542-3128. All blood donors receive a FREE reusable water bottle! Sponsored by South Texas Blood & Tissue. \nSchedule Now \n\nSHARE
URL:https://www.floresvilletx.gov/calendar-event/blood-drive-floresville-2024-05-15/
LOCATION:City Hall\, 1120 D Street\, Floresville\, TX\, 78114\, United States
CATEGORIES:Community Events
GEO:29.1327759;-98.1562025
X-APPLE-STRUCTURED-LOCATION;VALUE=URI;X-ADDRESS=City Hall 1120 D Street Floresville TX 78114 United States;X-APPLE-RADIUS=500;X-TITLE=1120 D Street:geo:-98.1562025,29.1327759
END:VEVENT
END:VCALENDAR