BEGIN:VCALENDAR
VERSION:2.0
PRODID:-//City of Floresville - ECPv5.16.4//NONSGML v1.0//EN
CALSCALE:GREGORIAN
METHOD:PUBLISH
X-ORIGINAL-URL:https://www.floresvilletx.gov
X-WR-CALDESC:Events for City of Floresville
BEGIN:VTIMEZONE
TZID:America/Chicago
BEGIN:DAYLIGHT
TZOFFSETFROM:-0600
TZOFFSETTO:-0500
TZNAME:CDT
DTSTART:20210314T080000
END:DAYLIGHT
BEGIN:STANDARD
TZOFFSETFROM:-0500
TZOFFSETTO:-0600
TZNAME:CST
DTSTART:20211107T070000
END:STANDARD
END:VTIMEZONE
BEGIN:VEVENT
DTSTART;TZID=America/Chicago:20210125T080000
DTEND;TZID=America/Chicago:20210129T170000
DTSTAMP:20260420T101136
CREATED:20210108T232904Z
LAST-MODIFIED:20260324T151258Z
UID:7610-1611561600-1611939600@www.floresvilletx.gov
SUMMARY:COVID-19 Free Drive-Thru Testing
DESCRIPTION:This event has ended. Please visit the COVID-19 Testing Information page for more information on COVID-19 testing and nearby locations. \nCOVID-19 Testing Info \n\n\n \nThis is a FREE\, state-supported\, DRIVE-THRU test site. You do NOT need symptoms to test. No appointments required\, but pre-registration is encouraged. Scan the QR code above or visit texas.spartancovidtesting.com. Results will be available three to five days after testing. You will receive an automated text and/or email with results. \nSHARE
URL:https://www.floresvilletx.gov/calendar-event/covid-19-testing-free-drive-thru/
LOCATION:Wilson County Expo & Community Center\, 435 SH 97 East\, Floresville\, TX\, 78114\, United States
CATEGORIES:Community Events
GEO:29.162776;-98.141488
X-APPLE-STRUCTURED-LOCATION;VALUE=URI;X-ADDRESS=Wilson County Expo & Community Center 435 SH 97 East Floresville TX 78114 United States;X-APPLE-RADIUS=500;X-TITLE=435 SH 97 East:geo:-98.141488,29.162776
END:VEVENT
END:VCALENDAR