BEGIN:VCALENDAR
VERSION:2.0
PRODID:-//City of Floresville - ECPv5.16.4//NONSGML v1.0//EN
CALSCALE:GREGORIAN
METHOD:PUBLISH
X-ORIGINAL-URL:https://www.floresvilletx.gov
X-WR-CALDESC:Events for City of Floresville
BEGIN:VTIMEZONE
TZID:America/Chicago
BEGIN:DAYLIGHT
TZOFFSETFROM:-0600
TZOFFSETTO:-0500
TZNAME:CDT
DTSTART:20170312T080000
END:DAYLIGHT
BEGIN:STANDARD
TZOFFSETFROM:-0500
TZOFFSETTO:-0600
TZNAME:CST
DTSTART:20171105T070000
END:STANDARD
END:VTIMEZONE
BEGIN:VEVENT
DTSTART;VALUE=DATE:20170710
DTEND;VALUE=DATE:20170728
DTSTAMP:20260424T055029
CREATED:20170519T152801Z
LAST-MODIFIED:20170519T152801Z
UID:3466-1499644800-1501199999@www.floresvilletx.gov
SUMMARY:Kids’ Day Camp
DESCRIPTION:All City Youth Programs presents A Crazy & Wild Summer in the Land Down Under! Summer day camp for children ages five to 13. 8:00 am to 6:00 pm. Session 1 runs from June 12 through June 29. Session 2 from July 10 through July 27. For more info call (830) 581-9797. \nRegister in person… at the Floresville Event Center Gym\, Monday through Friday between 2:00 and 6:00 pm. Register by mail… go to www.acyp.org\, print the Summer Program forms for the program of your choice\, fill out\, mail them with your check or email them and call us with your credit card information. Scholarships are available for those who qualify. \nPDF Flyer \nAll City Youth Programs website \nSHARE
URL:https://www.floresvilletx.gov/calendar-event/kids-day-camp/
LOCATION:Floresville Event Center\, 600 SH 97 West\, Floresville\, TX\, 78114\, United States
CATEGORIES:Community Events
GEO:29.1161502;-98.1704866
X-APPLE-STRUCTURED-LOCATION;VALUE=URI;X-ADDRESS=Floresville Event Center 600 SH 97 West Floresville TX 78114 United States;X-APPLE-RADIUS=500;X-TITLE=600 SH 97 West:geo:-98.1704866,29.1161502
END:VEVENT
END:VCALENDAR