BEGIN:VCALENDAR
VERSION:2.0
PRODID:-//City of Floresville - ECPv5.16.4//NONSGML v1.0//EN
CALSCALE:GREGORIAN
METHOD:PUBLISH
X-ORIGINAL-URL:https://www.floresvilletx.gov
X-WR-CALDESC:Events for City of Floresville
BEGIN:VTIMEZONE
TZID:America/Chicago
BEGIN:DAYLIGHT
TZOFFSETFROM:-0600
TZOFFSETTO:-0500
TZNAME:CDT
DTSTART:20240310T080000
END:DAYLIGHT
BEGIN:STANDARD
TZOFFSETFROM:-0500
TZOFFSETTO:-0600
TZNAME:CST
DTSTART:20241103T070000
END:STANDARD
END:VTIMEZONE
BEGIN:VEVENT
DTSTART;VALUE=DATE:20240812
DTEND;VALUE=DATE:20240813
DTSTAMP:20260420T231458
CREATED:20240325T194223Z
LAST-MODIFIED:20240325T194223Z
UID:10096-1723420800-1723507199@www.floresvilletx.gov
SUMMARY:Pool Late Season Schedule Begins (Weekends & Holidays)
DESCRIPTION:Late Season Hours (August 12–September 2\, 2024)\n\nOpen Labor Day \nSunday\n1 pm–8 pm \n\nMonday–Friday\nClosed \nSaturday\n12 noon–8 pm \n\n\nSHARE
URL:https://www.floresvilletx.gov/calendar-event/pool-late-season-schedule-begins-2024/
LOCATION:Floresville City Pool\, 1692 SH 97 West\, Floresville\, TX\, 78114\, United States
CATEGORIES:Community Events
END:VEVENT
END:VCALENDAR