BEGIN:VCALENDAR
VERSION:2.0
PRODID:-//City of Floresville - ECPv5.16.4//NONSGML v1.0//EN
CALSCALE:GREGORIAN
METHOD:PUBLISH
X-ORIGINAL-URL:https://www.floresvilletx.gov
X-WR-CALDESC:Events for City of Floresville
BEGIN:VTIMEZONE
TZID:America/Chicago
BEGIN:DAYLIGHT
TZOFFSETFROM:-0600
TZOFFSETTO:-0500
TZNAME:CDT
DTSTART:20190310T080000
END:DAYLIGHT
BEGIN:STANDARD
TZOFFSETFROM:-0500
TZOFFSETTO:-0600
TZNAME:CST
DTSTART:20191103T070000
END:STANDARD
END:VTIMEZONE
BEGIN:VEVENT
DTSTART;VALUE=DATE:20190819
DTEND;VALUE=DATE:20190820
DTSTAMP:20260420T084719
CREATED:20190319T014021Z
LAST-MODIFIED:20190319T014021Z
UID:5898-1566172800-1566259199@www.floresvilletx.gov
SUMMARY:Pool Late Summer Schedule Begins
DESCRIPTION:Late Summer Hours (August 19–September 2\, 2019)\n\nOpen weekends only\nOpen Labor Day\, 12 noon–8 pm\n \nSaturday and Labor Day\n12 noon–8 pm \nSunday\n1 pm–8 pm \nMonday–Friday\nClosed (open Labor Day) \nPrivate rentals will continue through September 8. \n\nSHARE
URL:https://www.floresvilletx.gov/calendar-event/pool-late-summer-schedule-begins-2019/
LOCATION:Floresville City Pool\, 1692 SH 97 West\, Floresville\, TX\, 78114\, United States
CATEGORIES:Community Events
END:VEVENT
END:VCALENDAR