BEGIN:VCALENDAR
VERSION:2.0
PRODID:-//City of Floresville - ECPv5.16.4//NONSGML v1.0//EN
CALSCALE:GREGORIAN
METHOD:PUBLISH
X-ORIGINAL-URL:https://www.floresvilletx.gov
X-WR-CALDESC:Events for City of Floresville
BEGIN:VTIMEZONE
TZID:America/Chicago
BEGIN:DAYLIGHT
TZOFFSETFROM:-0600
TZOFFSETTO:-0500
TZNAME:CDT
DTSTART:20250309T080000
END:DAYLIGHT
BEGIN:STANDARD
TZOFFSETFROM:-0500
TZOFFSETTO:-0600
TZNAME:CST
DTSTART:20251102T070000
END:STANDARD
END:VTIMEZONE
BEGIN:VEVENT
DTSTART;TZID=America/Chicago:20251122T080000
DTEND;TZID=America/Chicago:20251122T120000
DTSTAMP:20260420T162419
CREATED:20251118T152410Z
LAST-MODIFIED:20251118T152432Z
UID:11517-1763798400-1763812800@www.floresvilletx.gov
SUMMARY:Wilson County Hazardous Waste Collection
DESCRIPTION:Bring your household hazardous waste\, used tires\, used electronics\, and pharmaceutical waste to the Wilson County Expo Center (Showbarn). 🔋 💊 📺 ☠. Residents of Wilson County only. No businesses. Proof of address required. No businesses. FREE on a first come\, first served basis. Collection will close at the discretion of sponsors. For more info: (866) 345-7272 ext. 4258 or www.sariverauthority.org/event/wilson-county-household-hazardous-waste-collection-event \nSHARE
URL:https://www.floresvilletx.gov/calendar-event/wilson-county-hazardous-waste-collection-2025-11-22/
LOCATION:Wilson County Expo & Community Center\, 435 SH 97 East\, Floresville\, TX\, 78114\, United States
CATEGORIES:Community Events
GEO:29.162776;-98.141488
X-APPLE-STRUCTURED-LOCATION;VALUE=URI;X-ADDRESS=Wilson County Expo & Community Center 435 SH 97 East Floresville TX 78114 United States;X-APPLE-RADIUS=500;X-TITLE=435 SH 97 East:geo:-98.141488,29.162776
END:VEVENT
END:VCALENDAR